BEGIN:VCALENDAR
VERSION:2.0
PRODID:-//Andrew P. Stewart Center - ECPv6.15.20//NONSGML v1.0//EN
CALSCALE:GREGORIAN
METHOD:PUBLISH
X-WR-CALNAME:Andrew P. Stewart Center
X-ORIGINAL-URL:https://stewartcenter.org
X-WR-CALDESC:Events for Andrew P. Stewart Center
REFRESH-INTERVAL;VALUE=DURATION:PT1H
X-Robots-Tag:noindex
X-PUBLISHED-TTL:PT1H
BEGIN:VTIMEZONE
TZID:America/New_York
BEGIN:DAYLIGHT
TZOFFSETFROM:-0500
TZOFFSETTO:-0400
TZNAME:EDT
DTSTART:20220313T070000
END:DAYLIGHT
BEGIN:STANDARD
TZOFFSETFROM:-0400
TZOFFSETTO:-0500
TZNAME:EST
DTSTART:20221106T060000
END:STANDARD
BEGIN:DAYLIGHT
TZOFFSETFROM:-0500
TZOFFSETTO:-0400
TZNAME:EDT
DTSTART:20230312T070000
END:DAYLIGHT
BEGIN:STANDARD
TZOFFSETFROM:-0400
TZOFFSETTO:-0500
TZNAME:EST
DTSTART:20231105T060000
END:STANDARD
BEGIN:DAYLIGHT
TZOFFSETFROM:-0500
TZOFFSETTO:-0400
TZNAME:EDT
DTSTART:20240310T070000
END:DAYLIGHT
BEGIN:STANDARD
TZOFFSETFROM:-0400
TZOFFSETTO:-0500
TZNAME:EST
DTSTART:20241103T060000
END:STANDARD
BEGIN:DAYLIGHT
TZOFFSETFROM:-0500
TZOFFSETTO:-0400
TZNAME:EDT
DTSTART:20250309T070000
END:DAYLIGHT
BEGIN:STANDARD
TZOFFSETFROM:-0400
TZOFFSETTO:-0500
TZNAME:EST
DTSTART:20251102T060000
END:STANDARD
END:VTIMEZONE
BEGIN:VEVENT
DTSTART;TZID=America/New_York:20240122T160000
DTEND;TZID=America/New_York:20240122T190000
DTSTAMP:20260425T094551
CREATED:20240116T212657Z
LAST-MODIFIED:20240116T212657Z
UID:9323-1705939200-1705950000@stewartcenter.org
SUMMARY:Blueprint 58 Community Center - Movie & Marshmallows
DESCRIPTION:
URL:https://stewartcenter.org/event/blueprint-58-community-center-movie-marshmallows/
LOCATION:Blueprint 58\, 931 McDaniel St. SW\, Atlanta\, GA\, 30310\, United States
END:VEVENT
BEGIN:VEVENT
DTSTART;TZID=America/New_York:20240120T120000
DTEND;TZID=America/New_York:20240120T160000
DTSTAMP:20260425T094551
CREATED:20240116T213609Z
LAST-MODIFIED:20240116T213609Z
UID:9327-1705752000-1705766400@stewartcenter.org
SUMMARY:Blueprint 58 Community Center - Open Court
DESCRIPTION:
URL:https://stewartcenter.org/event/blueprint-58-community-center-open-court/
LOCATION:Blueprint 58\, 931 McDaniel St. SW\, Atlanta\, GA\, 30310\, United States
END:VEVENT
BEGIN:VEVENT
DTSTART;TZID=America/New_York:20240117T160000
DTEND;TZID=America/New_York:20240117T190000
DTSTAMP:20260425T094551
CREATED:20240116T212403Z
LAST-MODIFIED:20240116T212738Z
UID:9321-1705507200-1705518000@stewartcenter.org
SUMMARY:Blueprint 58 Community Center - Slime Making
DESCRIPTION:
URL:https://stewartcenter.org/event/blueprint-58-community-center-open-hours/
LOCATION:Blueprint 58\, 931 McDaniel St. SW\, Atlanta\, GA\, 30310\, United States
END:VEVENT
BEGIN:VEVENT
DTSTART;TZID=America/New_York:20240108T190000
DTEND;TZID=America/New_York:20240108T210000
DTSTAMP:20260425T094551
CREATED:20240116T223808Z
LAST-MODIFIED:20240116T223808Z
UID:9339-1704740400-1704747600@stewartcenter.org
SUMMARY:NPU-V Monthly Meeting
DESCRIPTION:Join us for our monthly meeting for residents of Neighborhood Planning Unit V. NPU-V encompasses the communities of Mechanicsville\, Summerhill\, Peoplestown\, Pittsburgh\, Adair Park\, and Capitol Gateway.
URL:https://stewartcenter.org/event/npu-v-monthly-meeting-15/
LOCATION:Pittman Park Recreation Center\, 950 Garibaldi Avenue S.E.\, Atlanta\, GA\, 30310\, United States
END:VEVENT
BEGIN:VEVENT
DTSTART;TZID=America/New_York:20240106T100000
DTEND;TZID=America/New_York:20240106T120000
DTSTAMP:20260425T094551
CREATED:20240116T222446Z
LAST-MODIFIED:20240116T222446Z
UID:9334-1704535200-1704542400@stewartcenter.org
SUMMARY:Pittsburgh Neighborhood Association Meeting
DESCRIPTION:
URL:https://stewartcenter.org/event/pittsburgh-neighborhood-association-meeting-31/
LOCATION:Pittman Park Recreation Center\, 950 Garibaldi Avenue S.E.\, Atlanta\, GA\, 30310\, United States
END:VEVENT
BEGIN:VEVENT
DTSTART;TZID=America/New_York:20231202T100000
DTEND;TZID=America/New_York:20231202T120000
DTSTAMP:20260425T094551
CREATED:20230901T164515Z
LAST-MODIFIED:20230901T164515Z
UID:8753-1701511200-1701518400@stewartcenter.org
SUMMARY:Pittsburgh Neighborhood Association Meeting
DESCRIPTION:
URL:https://stewartcenter.org/event/pittsburgh-neighborhood-association-meeting-30/
LOCATION:Pittman Park Recreation Center\, 950 Garibaldi Avenue S.E.\, Atlanta\, GA\, 30310\, United States
END:VEVENT
BEGIN:VEVENT
DTSTART;TZID=America/New_York:20231202T090000
DTEND;TZID=America/New_York:20231202T150000
DTSTAMP:20260425T094551
CREATED:20231114T171044Z
LAST-MODIFIED:20231114T171044Z
UID:9087-1701507600-1701529200@stewartcenter.org
SUMMARY:Food For Thought Food Entrepreneur Seminar
DESCRIPTION:Food For Thought Food Entrepreneur Seminar \nJoin us for an exciting and informative seminar designed for aspiring food entrepreneurs! Learn from industry experts and successful food business owners who will share their insights and experiences. Discover the secrets to starting and growing your own food venture. \nDate: Saturday\, December 2nd \nTime: 9am – 3pm \nLocation: Pittsburgh Yards | The Food Studio \nAddress: 352 University Avenue\, SW | Atlanta\, GA 30310 \nDon’t miss this opportunity to network with like-minded individuals\, gain valuable knowledge\, and get inspired to turn your food dreams into reality! Whether you’re just starting out or looking to take your food business to the next level\, this seminar is a must-attend event. See you there! \nThere’s No Cost To Attend But You Must Register.
URL:https://stewartcenter.org/event/food-for-thought-food-entrepreneur-seminar-2/
LOCATION:Pittsburgh Yards\, 352 University Ave SW\, Atlanta\, GA\, 30310\, United States
ORGANIZER;CN="Urban Oak Initiative":MAILTO:info@urbanoakfood.org
END:VEVENT
BEGIN:VEVENT
DTSTART;TZID=America/New_York:20231118T090000
DTEND;TZID=America/New_York:20231118T150000
DTSTAMP:20260425T094551
CREATED:20231114T170729Z
LAST-MODIFIED:20231114T170729Z
UID:9085-1700298000-1700319600@stewartcenter.org
SUMMARY:Food For Thought Food Entrepreneur Seminar
DESCRIPTION:Food For Thought Food Entrepreneur Seminar \nJoin us for an exciting and informative seminar designed for aspiring food entrepreneurs! Learn from industry experts and successful food business owners who will share their insights and experiences. Discover the secrets to starting and growing your own food venture. \nDate: Saturday\, November 18th \nTime: 9am – 3pm \nLocation: Pittsburgh Yards | The Food Studio \nAddress: 352 University Avenue\, SW | Atlanta\, GA 30310 \nDon’t miss this opportunity to network with like-minded individuals\, gain valuable knowledge\, and get inspired to turn your food dreams into reality! Whether you’re just starting out or looking to take your food business to the next level\, this seminar is a must-attend event. See you there! \nThere’s No Cost To Attend But You Must Register.
URL:https://stewartcenter.org/event/food-for-thought-food-entrepreneur-seminar/
LOCATION:Pittsburgh Yards\, 352 University Ave SW\, Atlanta\, GA\, 30310\, United States
ORGANIZER;CN="Urban Oak Initiative":MAILTO:info@urbanoakfood.org
END:VEVENT
BEGIN:VEVENT
DTSTART;TZID=America/New_York:20231104T100000
DTEND;TZID=America/New_York:20231104T120000
DTSTAMP:20260425T094551
CREATED:20230901T164434Z
LAST-MODIFIED:20230901T164434Z
UID:8752-1699092000-1699099200@stewartcenter.org
SUMMARY:Pittsburgh Neighborhood Association Meeting
DESCRIPTION:
URL:https://stewartcenter.org/event/pittsburgh-neighborhood-association-meeting-29/
LOCATION:Pittman Park Recreation Center\, 950 Garibaldi Avenue S.E.\, Atlanta\, GA\, 30310\, United States
END:VEVENT
BEGIN:VEVENT
DTSTART;TZID=America/New_York:20231025T170000
DTEND;TZID=America/New_York:20231025T190000
DTSTAMP:20260425T094551
CREATED:20230908T174114Z
LAST-MODIFIED:20230908T174114Z
UID:8767-1698253200-1698260400@stewartcenter.org
SUMMARY:Kroctoberfest
DESCRIPTION:Join us as we celebrate our 15th Anniversary at Kroctoberfest! Come celebrate fall holidays with costumes\, food\, fun\, candy\, games\, prizes\, rides and smiles. Families are especially welcomed.
URL:https://stewartcenter.org/event/kroctoberfest-2/
LOCATION:The Kroc Center Atlanta\, 967 Dewey St. SW\, Atlanta\, GA\, 30310\, United States
END:VEVENT
BEGIN:VEVENT
DTSTART;TZID=America/New_York:20231014T100000
DTEND;TZID=America/New_York:20231014T113000
DTSTAMP:20260425T094551
CREATED:20230908T182107Z
LAST-MODIFIED:20230908T182107Z
UID:8774-1697277600-1697283000@stewartcenter.org
SUMMARY:Atlanta Land Trust Virtual Community Information Session
DESCRIPTION:The Atlanta Land Trust (ALT) is committed to creating and preserving housing in Atlanta that will remain affordable for years to come. \n\n\n\n\nFREE virtual information session for future homebuyers! Participants will receive an overview of the Atlanta Land Trust (ALT) and its partners who are working to create permanently affordable homes in Atlanta using the community land trust (CLT) model. \nParticipants will learn: \n– What is a community land trust (CLT)? \n– How is a CLT different from traditional home ownership? \n– How do CLTs assist low-income buyers? \n– How can I buy a home on the Atlanta BeltLine? \nRegister HERE for this free virtual session.
URL:https://stewartcenter.org/event/atlanta-land-trust-virtual-community-information-session-2/
END:VEVENT
BEGIN:VEVENT
DTSTART;TZID=America/New_York:20231011T170000
DTEND;TZID=America/New_York:20231011T190000
DTSTAMP:20260425T094551
CREATED:20230908T185833Z
LAST-MODIFIED:20230908T190047Z
UID:8780-1697043600-1697050800@stewartcenter.org
SUMMARY:Invest Atlanta Homebuyer Information Session
DESCRIPTION:If you envision homeownership in the near future\, attend the Invest Atlanta Homebuyer Q&A Session webinar for a new perspective! \n\n\n\n\n5:00 p.m. – 7:00 p.m.\n\n\n\n\nInvest Atlanta Zoom & Facebook Live\n\n\n\nThis Invest Atlanta Homebuyer Q & A Session will occur via Zoom webinar. \nDuring the first 90 minutes of the Q & A Session future homebuyers and real estate agents receive program details and eligibility requirements for Invest Atlanta Homebuyer Incentives. These incentives are designed to reduce your down payment and closing costs. \nThe remaining 30 minutes are devoted to questions from homebuyer and answers from Invest Atlanta Homeownership Team members and mortgage lending partners. \nAttendees will receive the link to join the webinar\, on the day of the webinar\, before the start time of 5:00 pm. If attendees have any difficulty logging on\, please join the live stream on the Invest Atlanta Facebook page. \nRegister for this FREE session HERE.
URL:https://stewartcenter.org/event/invest-atlanta-homebuyer-information-session-2/
LOCATION:Online
END:VEVENT
BEGIN:VEVENT
DTSTART;VALUE=DATE:20231009
DTEND;VALUE=DATE:20231026
DTSTAMP:20260425T094551
CREATED:20230908T174720Z
LAST-MODIFIED:20230908T174720Z
UID:8768-1696809600-1698278399@stewartcenter.org
SUMMARY:Angel Tree Registration at the Kroc Center
DESCRIPTION:Angel Tree Registration at the Kroc Center begins October 9th and runs through October 25th. All families with children under 12 can register for Christmas gifts. Proof of Financial and guardianship of children is required. Please call 404-638-7220 to register beginning on October 9.
URL:https://stewartcenter.org/event/angel-tree-registration-at-the-kroc-center/
END:VEVENT
BEGIN:VEVENT
DTSTART;TZID=America/New_York:20231007T100000
DTEND;TZID=America/New_York:20231007T120000
DTSTAMP:20260425T094551
CREATED:20230901T164348Z
LAST-MODIFIED:20230920T142210Z
UID:8751-1696672800-1696680000@stewartcenter.org
SUMMARY:Pittsburgh Neighborhood Association Meeting
DESCRIPTION:
URL:https://stewartcenter.org/event/pittsburgh-neighborhood-association-meeting-28/
LOCATION:Pittman Park Recreation Center\, 950 Garibaldi Avenue S.E.\, Atlanta\, GA\, 30310\, United States
END:VEVENT
BEGIN:VEVENT
DTSTART;TZID=America/New_York:20230923T090000
DTEND;TZID=America/New_York:20230923T130000
DTSTAMP:20260425T094551
CREATED:20230908T173410Z
LAST-MODIFIED:20230908T173410Z
UID:8766-1695459600-1695474000@stewartcenter.org
SUMMARY:Kroc Atlanta Adopt Our Block Event
DESCRIPTION:Let’s show Pittsburgh some LOVE and have fun together in the process! We will begin with a neighborhood trash pick up and then transition back to Kroc Atlanta for fun\, food and games.
URL:https://stewartcenter.org/event/kroc-atlanta-adopt-our-block-event/
LOCATION:The Kroc Center Atlanta\, 967 Dewey St. SW\, Atlanta\, GA\, 30310\, United States
END:VEVENT
BEGIN:VEVENT
DTSTART;TZID=America/New_York:20230916T120000
DTEND;TZID=America/New_York:20230916T180000
DTSTAMP:20260425T094551
CREATED:20230908T184903Z
LAST-MODIFIED:20230908T184903Z
UID:8775-1694865600-1694887200@stewartcenter.org
SUMMARY:2nd Annual Nia Fest
DESCRIPTION:The Pittsburgh Community Market and our partners will be celebrating the 2nd annual Nia Fest: Full S.T.E.A.M. Ahead. \nWe are expanding on last year’s pillars\, which were Community Development\, Financial Literacy\, Cooperative Economics\, Work Life Balance. This year’s theme is: Science\, Technology\, Entrepreneurship\, Art\, and Money Management. \nSaturday\, September 16\, 2023 \nPre-festival activities 10am-12n \nNia Fest 12n-6pm \nThe festival will connect community members and stakeholders in a fun day of speakers\, entertainment\, food\, shopping\, demos\, workshops\, family fun\, and giveaways. \n  \nFor more information: \nwww.pittsburghcommunitymarket.com \nIG: @pittsburghcommunitymarketsw \n  \nWorkshops: \n– Atlanta Land Trust Community \n12n-1:30pm \nClick HERE for more information or register for this free event. \n-The Happy Black Parent \nChildren’s STEAM Area \n12-6pm \n-Ms. Bernise Learning Tree \nHow Money Works 3:30pm-4:30pm \nClick HERE for more information or to register for this free event. \n-Black Architects in The Making \n1:00pm-3:15pm \nClick HERE for more information or to register for this free event.
URL:https://stewartcenter.org/event/2nd-annual-nia-fest/
LOCATION:Pittsburgh Yards\, 352 University Ave SW\, Atlanta\, GA\, 30310\, United States
ORGANIZER;CN="Pittsburgh Community Market":MAILTO:pittsburghcommunitymarket@gmail.com
END:VEVENT
BEGIN:VEVENT
DTSTART;TZID=America/New_York:20230916T120000
DTEND;TZID=America/New_York:20230916T133000
DTSTAMP:20260425T094551
CREATED:20230908T181757Z
LAST-MODIFIED:20230908T181757Z
UID:8773-1694865600-1694871000@stewartcenter.org
SUMMARY:Atlanta Land Trust Community Information Session
DESCRIPTION:The Atlanta Land Trust (ALT) is committed to creating and preserving housing in Atlanta that will remain affordable for years to come. \n\n\n\n\nFREE information session for future homebuyers! This event will be held in conjunction with the Nia Festival at Pittsburgh Yards. To learn more\, visit: https://www.eventbrite.com/e/the-nia-festival-tickets-390703383337. Participants will receive an overview of the Atlanta Land Trust (ALT) and its partners who are working to create permanently affordable homes in Atlanta using the community land trust (CLT) model. \nParticipants will learn: \n– What is a community land trust (CLT)? \n– How is a CLT different from traditional home ownership? \n– How do CLTs assist non-traditional or low-income buyers? \n– How can I buy a home on the Atlanta BeltLine? \n\n\n\n\n\n\nRegister HERE for this in-person information session.
URL:https://stewartcenter.org/event/atlanta-land-trust-community-information-session/
LOCATION:Pittsburgh Yards\, 352 University Ave SW\, Atlanta\, GA\, 30310\, United States
END:VEVENT
BEGIN:VEVENT
DTSTART;TZID=America/New_York:20230913T170000
DTEND;TZID=America/New_York:20230913T190000
DTSTAMP:20260425T094551
CREATED:20230908T185558Z
LAST-MODIFIED:20230908T190010Z
UID:8777-1694624400-1694631600@stewartcenter.org
SUMMARY:Invest Atlanta Homebuyer Information Session
DESCRIPTION:If you envision homeownership in the near future\, attend the Invest Atlanta Homebuyer Q&A Session webinar for a new perspective! \n\n\n\n\n5:00 p.m. – 7:00 p.m.\n\n\n\n\nInvest Atlanta Zoom & Facebook Live\n\n\n\nThis Invest Atlanta Homebuyer Q & A Session will occur via Zoom webinar. \nDuring the first 90 minutes of the Q & A Session future homebuyers and real estate agents receive program details and eligibility requirements for Invest Atlanta Homebuyer Incentives. These incentives are designed to reduce your down payment and closing costs. \nThe remaining 30 minutes are devoted to questions from homebuyer and answers from Invest Atlanta Homeownership Team members and mortgage lending partners. \nAttendees will receive the link to join the webinar\, on the day of the webinar\, before the start time of 5:00 pm. If attendees have any difficulty logging on\, please join the live stream on the Invest Atlanta Facebook page. \nRegister for this FREE session HERE.
URL:https://stewartcenter.org/event/invest-atlanta-homebuyer-information-session/
LOCATION:Online
END:VEVENT
BEGIN:VEVENT
DTSTART;TZID=America/New_York:20230912T090000
DTEND;TZID=America/New_York:20230912T140000
DTSTAMP:20260425T094551
CREATED:20230901T165551Z
LAST-MODIFIED:20230901T165551Z
UID:8755-1694509200-1694527200@stewartcenter.org
SUMMARY:Kroc Atlanta VA Veteran’s Event
DESCRIPTION:Kroc Atlanta’s VA Veteran’s Event is a time and space where anyone who served in the US Armed Forces can come get pampered and receive information and resources.
URL:https://stewartcenter.org/event/kroc-atlanta-va-veterans-event/
LOCATION:The Kroc Center Atlanta\, 967 Dewey St. SW\, Atlanta\, GA\, 30310\, United States
END:VEVENT
BEGIN:VEVENT
DTSTART;TZID=America/New_York:20230909T100000
DTEND;TZID=America/New_York:20230909T113000
DTSTAMP:20260425T094551
CREATED:20230908T180924Z
LAST-MODIFIED:20230908T180924Z
UID:8769-1694253600-1694259000@stewartcenter.org
SUMMARY:Atlanta Land Trust Virtual Community Information Session
DESCRIPTION:The Atlanta Land Trust (ALT) is committed to creating and preserving housing in Atlanta that will remain affordable for years to come. \n\n\n\n\nFREE virtual information session for future homebuyers! Participants will receive an overview of the Atlanta Land Trust (ALT) and its partners who are working to create permanently affordable homes in Atlanta using the community land trust (CLT) model. \nParticipants will learn: \n– What is a community land trust (CLT)? \n– How is a CLT different from traditional home ownership? \n– How do CLTs assist low-income buyers? \n– How can I buy a home on the Atlanta BeltLine? \nRegister HERE for this free virtual session.
URL:https://stewartcenter.org/event/atlanta-land-trust-virtual-community-information-session/
END:VEVENT
BEGIN:VEVENT
DTSTART;TZID=America/New_York:20230902T100000
DTEND;TZID=America/New_York:20230902T120000
DTSTAMP:20260425T094551
CREATED:20230901T164220Z
LAST-MODIFIED:20230901T164220Z
UID:8750-1693648800-1693656000@stewartcenter.org
SUMMARY:Pittsburgh Neighborhood Association Meeting
DESCRIPTION:
URL:https://stewartcenter.org/event/pittsburgh-neighborhood-association-meeting-27/
LOCATION:Pittman Park Recreation Center\, 950 Garibaldi Avenue S.E.\, Atlanta\, GA\, 30310\, United States
END:VEVENT
BEGIN:VEVENT
DTSTART;TZID=America/New_York:20230612T190000
DTEND;TZID=America/New_York:20230612T210000
DTSTAMP:20260425T094551
CREATED:20230113T225049Z
LAST-MODIFIED:20230113T225049Z
UID:8517-1686596400-1686603600@stewartcenter.org
SUMMARY:NPU-V Monthly Meeting
DESCRIPTION:Join us for our monthly meeting for residents of Neighborhood Planning Unit V. NPU-V encompasses the communities of Mechanicsville\, Summerhill\, Peoplestown\, Pittsburgh\, Adair Park\, and Capitol Gateway. \nTo join the remote meeting\, click here\nMeeting ID: 992 1132 0112\nDial-in: 646-558-8656\nAccess code: 9921 1320 112#
URL:https://stewartcenter.org/event/npu-v-monthly-meeting-14/
END:VEVENT
BEGIN:VEVENT
DTSTART;TZID=America/New_York:20230603T100000
DTEND;TZID=America/New_York:20230603T120000
DTSTAMP:20260425T094551
CREATED:20230113T224559Z
LAST-MODIFIED:20230113T224559Z
UID:8511-1685786400-1685793600@stewartcenter.org
SUMMARY:Pittsburgh Neighborhood Association Meeting
DESCRIPTION:
URL:https://stewartcenter.org/event/pittsburgh-neighborhood-association-meeting-26/
LOCATION:@Promise Youth Center – South\, 836 Metropolitan Pkwy SW\, Atlanta\, GA\, 30310\, United States
END:VEVENT
BEGIN:VEVENT
DTSTART;TZID=America/New_York:20230508T190000
DTEND;TZID=America/New_York:20230508T210000
DTSTAMP:20260425T094551
CREATED:20230113T225019Z
LAST-MODIFIED:20230113T225019Z
UID:8516-1683572400-1683579600@stewartcenter.org
SUMMARY:NPU-V Monthly Meeting
DESCRIPTION:Join us for our monthly meeting for residents of Neighborhood Planning Unit V. NPU-V encompasses the communities of Mechanicsville\, Summerhill\, Peoplestown\, Pittsburgh\, Adair Park\, and Capitol Gateway. \nTo join the remote meeting\, click here\nMeeting ID: 992 1132 0112\nDial-in: 646-558-8656\nAccess code: 9921 1320 112#
URL:https://stewartcenter.org/event/npu-v-monthly-meeting-13/
END:VEVENT
BEGIN:VEVENT
DTSTART;TZID=America/New_York:20230506T100000
DTEND;TZID=America/New_York:20230506T120000
DTSTAMP:20260425T094551
CREATED:20230113T224521Z
LAST-MODIFIED:20230113T224521Z
UID:8510-1683367200-1683374400@stewartcenter.org
SUMMARY:Pittsburgh Neighborhood Association Meeting
DESCRIPTION:
URL:https://stewartcenter.org/event/pittsburgh-neighborhood-association-meeting-25/
LOCATION:@Promise Youth Center – South\, 836 Metropolitan Pkwy SW\, Atlanta\, GA\, 30310\, United States
END:VEVENT
BEGIN:VEVENT
DTSTART;TZID=America/New_York:20230415T100000
DTEND;TZID=America/New_York:20230415T140000
DTSTAMP:20260425T094551
CREATED:20230412T015932Z
LAST-MODIFIED:20230412T020141Z
UID:8579-1681552800-1681567200@stewartcenter.org
SUMMARY:Community Resource and Housing Fair
DESCRIPTION:Pre-register for this free event HERE.
URL:https://stewartcenter.org/event/community-resource-and-housing-fair/
LOCATION:Pittsburgh Yards\, 352 University Ave SW\, Atlanta\, GA\, 30310\, United States
END:VEVENT
BEGIN:VEVENT
DTSTART;TZID=America/New_York:20230410T190000
DTEND;TZID=America/New_York:20230410T210000
DTSTAMP:20260425T094551
CREATED:20230113T224946Z
LAST-MODIFIED:20230113T224946Z
UID:8515-1681153200-1681160400@stewartcenter.org
SUMMARY:NPU-V Monthly Meeting
DESCRIPTION:Join us for our monthly meeting for residents of Neighborhood Planning Unit V. NPU-V encompasses the communities of Mechanicsville\, Summerhill\, Peoplestown\, Pittsburgh\, Adair Park\, and Capitol Gateway. \nTo join the remote meeting\, click here\nMeeting ID: 992 1132 0112\nDial-in: 646-558-8656\nAccess code: 9921 1320 112#
URL:https://stewartcenter.org/event/npu-v-monthly-meeting-12/
END:VEVENT
BEGIN:VEVENT
DTSTART;TZID=America/New_York:20230401T100000
DTEND;TZID=America/New_York:20230401T120000
DTSTAMP:20260425T094551
CREATED:20230113T224449Z
LAST-MODIFIED:20230113T224449Z
UID:8509-1680343200-1680350400@stewartcenter.org
SUMMARY:Pittsburgh Neighborhood Association Meeting
DESCRIPTION:
URL:https://stewartcenter.org/event/pittsburgh-neighborhood-association-meeting-24/
LOCATION:@Promise Youth Center – South\, 836 Metropolitan Pkwy SW\, Atlanta\, GA\, 30310\, United States
END:VEVENT
BEGIN:VEVENT
DTSTART;TZID=America/New_York:20230315T170000
DTEND;TZID=America/New_York:20230315T180000
DTSTAMP:20260425T094551
CREATED:20230113T223647Z
LAST-MODIFIED:20230113T223647Z
UID:8505-1678899600-1678903200@stewartcenter.org
SUMMARY:Financial Literacy Workshop
DESCRIPTION:Childcare is provided. Please register HERE.
URL:https://stewartcenter.org/event/financial-literacy-workshop-3/
LOCATION:Gideons Elementary School\, 897 Welch St. SW\, Atlanta\, GA
END:VEVENT
BEGIN:VEVENT
DTSTART;TZID=America/New_York:20230313T190000
DTEND;TZID=America/New_York:20230313T210000
DTSTAMP:20260425T094551
CREATED:20230113T224922Z
LAST-MODIFIED:20230113T224922Z
UID:8514-1678734000-1678741200@stewartcenter.org
SUMMARY:NPU-V Monthly Meeting
DESCRIPTION:Join us for our monthly meeting for residents of Neighborhood Planning Unit V. NPU-V encompasses the communities of Mechanicsville\, Summerhill\, Peoplestown\, Pittsburgh\, Adair Park\, and Capitol Gateway. \nTo join the remote meeting\, click here\nMeeting ID: 992 1132 0112\nDial-in: 646-558-8656\nAccess code: 9921 1320 112#
URL:https://stewartcenter.org/event/npu-v-monthly-meeting-11/
END:VEVENT
END:VCALENDAR