BEGIN:VCALENDAR
VERSION:2.0
PRODID:-//Andrew P. Stewart Center - ECPv6.15.20//NONSGML v1.0//EN
CALSCALE:GREGORIAN
METHOD:PUBLISH
X-ORIGINAL-URL:https://stewartcenter.org
X-WR-CALDESC:Events for Andrew P. Stewart Center
REFRESH-INTERVAL;VALUE=DURATION:PT1H
X-Robots-Tag:noindex
X-PUBLISHED-TTL:PT1H
BEGIN:VTIMEZONE
TZID:America/New_York
BEGIN:DAYLIGHT
TZOFFSETFROM:-0500
TZOFFSETTO:-0400
TZNAME:EDT
DTSTART:20200308T070000
END:DAYLIGHT
BEGIN:STANDARD
TZOFFSETFROM:-0400
TZOFFSETTO:-0500
TZNAME:EST
DTSTART:20201101T060000
END:STANDARD
BEGIN:DAYLIGHT
TZOFFSETFROM:-0500
TZOFFSETTO:-0400
TZNAME:EDT
DTSTART:20210314T070000
END:DAYLIGHT
BEGIN:STANDARD
TZOFFSETFROM:-0400
TZOFFSETTO:-0500
TZNAME:EST
DTSTART:20211107T060000
END:STANDARD
BEGIN:DAYLIGHT
TZOFFSETFROM:-0500
TZOFFSETTO:-0400
TZNAME:EDT
DTSTART:20220313T070000
END:DAYLIGHT
BEGIN:STANDARD
TZOFFSETFROM:-0400
TZOFFSETTO:-0500
TZNAME:EST
DTSTART:20221106T060000
END:STANDARD
END:VTIMEZONE
BEGIN:VTIMEZONE
TZID:America/Detroit
BEGIN:DAYLIGHT
TZOFFSETFROM:-0500
TZOFFSETTO:-0400
TZNAME:EDT
DTSTART:20200308T070000
END:DAYLIGHT
BEGIN:STANDARD
TZOFFSETFROM:-0400
TZOFFSETTO:-0500
TZNAME:EST
DTSTART:20201101T060000
END:STANDARD
BEGIN:DAYLIGHT
TZOFFSETFROM:-0500
TZOFFSETTO:-0400
TZNAME:EDT
DTSTART:20210314T070000
END:DAYLIGHT
BEGIN:STANDARD
TZOFFSETFROM:-0400
TZOFFSETTO:-0500
TZNAME:EST
DTSTART:20211107T060000
END:STANDARD
BEGIN:DAYLIGHT
TZOFFSETFROM:-0500
TZOFFSETTO:-0400
TZNAME:EDT
DTSTART:20220313T070000
END:DAYLIGHT
BEGIN:STANDARD
TZOFFSETFROM:-0400
TZOFFSETTO:-0500
TZNAME:EST
DTSTART:20221106T060000
END:STANDARD
END:VTIMEZONE
BEGIN:VEVENT
DTSTART;TZID=America/New_York:20210210T160000
DTEND;TZID=America/New_York:20210210T173000
DTSTAMP:20260419T093149
CREATED:20210115T185735Z
LAST-MODIFIED:20210115T185735Z
UID:3575-1612972800-1612978200@stewartcenter.org
SUMMARY:Food Distribution
DESCRIPTION:
URL:https://stewartcenter.org/event/food-distribution-6/
LOCATION:Ariel Bowen UMC\, 384 Arthur St. SW\, Atlanta\, GA\, 30310\, United States
END:VEVENT
BEGIN:VEVENT
DTSTART;TZID=America/Detroit:20210210T173000
DTEND;TZID=America/Detroit:20210210T183000
DTSTAMP:20260419T093149
CREATED:20210119T225322Z
LAST-MODIFIED:20210126T181906Z
UID:3591-1612978200-1612981800@stewartcenter.org
SUMMARY:APS Parent Leadership Academy: Success for All Students
DESCRIPTION:
URL:https://stewartcenter.org/event/pla-class-success-for-all-students/
LOCATION:GA
ORGANIZER;CN="Atlanta Public Schools":MAILTO:familyenagagement@atlanta.k12.ga.us
END:VEVENT
BEGIN:VEVENT
DTSTART;TZID=America/New_York:20210210T180000
DTEND;TZID=America/New_York:20210210T200000
DTSTAMP:20260419T093149
CREATED:20210201T232706Z
LAST-MODIFIED:20210201T232706Z
UID:3623-1612980000-1612987200@stewartcenter.org
SUMMARY:Invest Atlanta Homebuyer Q&A Session
DESCRIPTION:
URL:https://stewartcenter.org/event/invest-atlanta-homebuyer-qa-session/
LOCATION:GA
END:VEVENT
END:VCALENDAR